BEGIN:VCALENDAR
VERSION:2.0
PRODID:icalendar-ruby
CALSCALE:GREGORIAN
METHOD:PUBLISH
BEGIN:VEVENT
DTSTAMP:20260420T111800Z
UID:383-692@cumberlandcommunitychurch.ca
DTSTART:20260509T180000Z
DTEND:20260509T193000Z
CLASS:PUBLIC
CREATED:20260416T143631
DESCRIPTION:We will gather in the Church Hall for a wonderful time of tea\,
  snacks\, fellowship and entertainment. This would be a great time to brin
 g a friend or family member Tickets are limited and cost is $3. Purchase y
 our tickets through Melissa or Valerie. More information to come.
LAST-MODIFIED:20260416T143631
LOCATION:
SUMMARY:Mother's Day Tea Party
URL;VALUE=URI:https://www.cumberlandcommunitychurch.ca/events/mothers-day-t
 ea-party/2026-05-09
ATTACH;FILENAME=cakes-delicious-dessert-bakery-event-party-reception.jpg;FM
 TTYPE=image/jpeg:https://dq5pwpg1q8ru0.cloudfront.net/2026/04/16/20/53/15/
 6c360deb-297a-46e9-a32d-7018fbecc7df/cakes-delicious-dessert-bakery-event-
 party-reception.jpg
END:VEVENT
END:VCALENDAR
