BEGIN:VCALENDAR
VERSION:2.0
PRODID:icalendar-ruby
CALSCALE:GREGORIAN
METHOD:PUBLISH
BEGIN:VEVENT
DTSTAMP:20260420T111727Z
UID:382-687@cumberlandcommunitychurch.ca
DTSTART:20260530T153000Z
DTEND:20260530T170000Z
CLASS:PUBLIC
CREATED:20260409T111142
DESCRIPTION:Join in for a time of faith\, fellowship and fun. We will meet 
 in the church hall to share a meal and hear the stories of a fellow believ
 er's walk through life. Please feel free to bring a friend\, just contact 
 Pastor Derek with numbers so we can insure there is enough food for all.
LAST-MODIFIED:20260409T111142
LOCATION:
SUMMARY:Men's Breakfast
URL;VALUE=URI:https://www.cumberlandcommunitychurch.ca/events/mens-breakfas
 t--382/2026-05-30
ATTACH;FILENAME=big breakfast.jpg;FMTTYPE=image/jpeg:https://dq5pwpg1q8ru0.
 cloudfront.net/2026/04/09/18/11/42/b62f5907-8b48-4efd-941e-b4586add92bd/bi
 g%20breakfast.jpg
END:VEVENT
END:VCALENDAR
