BEGIN:VCALENDAR
VERSION:2.0
PRODID:icalendar-ruby
CALSCALE:GREGORIAN
METHOD:PUBLISH
BEGIN:VEVENT
DTSTAMP:20260420T111912Z
UID:384-690@cumberlandcommunitychurch.ca
DTSTART:20260518T200000Z
DTEND:20260518T220000Z
CLASS:PUBLIC
CREATED:20260416T135705
DESCRIPTION:Our respite ministry\, 'Companion Care\,' supports caregivers b
 y giving them an opportunity to take a 2-hour break from their caregiving 
 duties once a month. It also benefits their care recipients and other comm
 unity members who wish to join the facilitated group activities\, offering
  them an engaging break filled with joy\, laughter\, brain-stimulating act
 ivities\, and companionship.\nEveryone is welcome to join us as long as th
 ey can walk independently or with the help of a cane or walker\, manage th
 eir restroom needs on their own\, engage in social activities\, and feed t
 hemselves as coffee and tea will be available.
LAST-MODIFIED:20260416T135705
LOCATION:
SUMMARY:Companion Care
URL;VALUE=URI:https://www.cumberlandcommunitychurch.ca/events/companion-car
 e--384/2026-05-18
ATTACH;FILENAME=companion care.jpg;FMTTYPE=image/jpeg:https://dq5pwpg1q8ru0
 .cloudfront.net/2026/04/16/20/57/05/f74eb7fd-f1bc-41b2-9437-1dbd4ec82c56/c
 ompanion%20care.jpg
END:VEVENT
END:VCALENDAR
