BEGIN:VCALENDAR
VERSION:2.0
PRODID:icalendar-ruby
CALSCALE:GREGORIAN
METHOD:PUBLISH
BEGIN:VEVENT
DTSTAMP:20260420T111625Z
UID:373-671@cumberlandcommunitychurch.ca
DTSTART:20260521T203000Z
DTEND:20260521T213000Z
CLASS:PUBLIC
CREATED:20260319T132508
DESCRIPTION:Join us for a "Deep Dive into the Book of Hebrews." Everyone is
  Welcome!
LAST-MODIFIED:20260319T132508
LOCATION:
SUMMARY:Bible Study with Pastor Derek
URL;VALUE=URI:https://www.cumberlandcommunitychurch.ca/events/bible-study-w
 ith-pastor-derek--373/2026-05-21
ATTACH;FILENAME=Bible Study.jpg;FMTTYPE=image/jpeg:https://dq5pwpg1q8ru0.cl
 oudfront.net/2026/03/19/20/25/08/84f03f69-870b-444a-80b0-371bd87c7146/Bibl
 e%20Study.jpg
END:VEVENT
END:VCALENDAR
