BEGIN:VCALENDAR
VERSION:2.0
PRODID:icalendar-ruby
CALSCALE:GREGORIAN
METHOD:PUBLISH
BEGIN:VEVENT
DTSTAMP:20260420T112106Z
UID:372-670@cumberlandcommunitychurch.ca
DTSTART:20260514T203000Z
DTEND:20260514T213000Z
CLASS:PUBLIC
CREATED:20260319T132405
DESCRIPTION:Join us for a "Deep Dive into the Book of Hebrews." Everyone is
  Welcome!
LAST-MODIFIED:20260319T132405
LOCATION:
SUMMARY:Bible Study with Pastor Derek
URL;VALUE=URI:https://www.cumberlandcommunitychurch.ca/events/bible-study-w
 ith-pastor-derek--372/2026-05-14
ATTACH;FILENAME=Bible Study.jpg;FMTTYPE=image/jpeg:https://dq5pwpg1q8ru0.cl
 oudfront.net/2026/03/19/20/24/05/656cef6f-1dee-492a-8296-64c7cc52b740/Bibl
 e%20Study.jpg
END:VEVENT
END:VCALENDAR
