BEGIN:VCALENDAR
VERSION:2.0
PRODID:icalendar-ruby
CALSCALE:GREGORIAN
METHOD:PUBLISH
BEGIN:VEVENT
DTSTAMP:20260420T004822Z
UID:371-669@cumberlandcommunitychurch.ca
DTSTART:20260507T203000Z
DTEND:20260507T213000Z
CLASS:PUBLIC
CREATED:20260319T132312
DESCRIPTION:Join us for a "Deep Dive into the Book of Hebrews." Everyone is
  Welcome!
LAST-MODIFIED:20260319T132312
LOCATION:
SUMMARY:Bible Study with Pastor Derek
URL;VALUE=URI:https://www.cumberlandcommunitychurch.ca/events/bible-study-w
 ith-pastor-derek--371/2026-05-07
ATTACH;FILENAME=Bible Study.jpg;FMTTYPE=image/jpeg:https://dq5pwpg1q8ru0.cl
 oudfront.net/2026/03/19/20/23/11/f00cf130-5e65-4cce-8669-d7748bea00a3/Bibl
 e%20Study.jpg
END:VEVENT
END:VCALENDAR
