BEGIN:VCALENDAR
VERSION:2.0
PRODID:icalendar-ruby
CALSCALE:GREGORIAN
METHOD:PUBLISH
BEGIN:VEVENT
DTSTAMP:20260419T230736Z
UID:369-664@cumberlandcommunitychurch.ca
DTSTART:20260430T203000Z
DTEND:20260430T213000Z
CLASS:PUBLIC
CREATED:20260319T131739
DESCRIPTION:Join us for a "Deep Dive into the Book of Hebrews." Everyone is
  Welcome!
LAST-MODIFIED:20260319T131739
LOCATION:
SUMMARY:Bible Study with Pastor Derek
URL;VALUE=URI:https://www.cumberlandcommunitychurch.ca/events/bible-study-w
 ith-pastor-derek--369/2026-04-30
ATTACH;FILENAME=Bible Study.jpg;FMTTYPE=image/jpeg:https://dq5pwpg1q8ru0.cl
 oudfront.net/2026/03/19/20/17/39/2b77eb04-ab80-47e9-a661-066aaebf0c6f/Bibl
 e%20Study.jpg
END:VEVENT
END:VCALENDAR
